BEGIN:VCALENDAR
VERSION:2.0
PRODID:-//FILO Magazine - ECPv6.15.18//NONSGML v1.0//EN
CALSCALE:GREGORIAN
METHOD:PUBLISH
X-ORIGINAL-URL:https://www.filomagazine.it
X-WR-CALDESC:Eventi per FILO Magazine
REFRESH-INTERVAL;VALUE=DURATION:PT1H
X-Robots-Tag:noindex
X-PUBLISHED-TTL:PT1H
BEGIN:VTIMEZONE
TZID:Europe/Rome
BEGIN:DAYLIGHT
TZOFFSETFROM:+0100
TZOFFSETTO:+0200
TZNAME:CEST
DTSTART:20220327T010000
END:DAYLIGHT
BEGIN:STANDARD
TZOFFSETFROM:+0200
TZOFFSETTO:+0100
TZNAME:CET
DTSTART:20221030T010000
END:STANDARD
BEGIN:DAYLIGHT
TZOFFSETFROM:+0100
TZOFFSETTO:+0200
TZNAME:CEST
DTSTART:20230326T010000
END:DAYLIGHT
BEGIN:STANDARD
TZOFFSETFROM:+0200
TZOFFSETTO:+0100
TZNAME:CET
DTSTART:20231029T010000
END:STANDARD
BEGIN:DAYLIGHT
TZOFFSETFROM:+0100
TZOFFSETTO:+0200
TZNAME:CEST
DTSTART:20240331T010000
END:DAYLIGHT
BEGIN:STANDARD
TZOFFSETFROM:+0200
TZOFFSETTO:+0100
TZNAME:CET
DTSTART:20241027T010000
END:STANDARD
END:VTIMEZONE
BEGIN:VEVENT
DTSTART;TZID=Europe/Rome:20231013T180000
DTEND;TZID=Europe/Rome:20231013T210000
DTSTAMP:20260420T143807
CREATED:20231009T090211Z
LAST-MODIFIED:20231013T084208Z
UID:10005572-1697220000-1697230800@www.filomagazine.it
SUMMARY:Mostra fotografica di Giacomo Brini - Uno sguardo non solito
DESCRIPTION:UNO SGUARDO NON SOLITO\nLa fotografia è il modo in cui guardo\, indago\, fermo e talvolta vivo ciò che mi circonda.\nQuesta mostra è un percorso su alcune visioni fotografiche apparentemente slegate tra di loro\, ma profondamente identitarie per il mio essere\, sia come persona che come fotografo .\nQuattro mondi\, quattro frammenti\, e\, confido\, quattro domande alla ricerca di altrettante risposte.\nLANZAROTE\nLanzarote è un viaggio fatto qualche anno fa che è diventata un simbolo personale.\nLa bellezza dell’isola è la grandezza della forza della natura che qui è manifesta nella sua espressione primaria.\nFERRARA\nFerrara è il luogo in cui vivere: città straordinaria\, che si mostra nella sua bellezza e nella sua apparenza ma che necessità curiosità per essere compresa appieno.\nRITRATTO è INCONTRO\nIl ritratto è innanzitutto un incontro tra due persone e quindi due storie\, due modi di essere\, due visioni dell’essere e del rappresentare.\nQuesto incontro diventa\, in certi casi\, un confronto pieno\, che lascia segni.\nIL SEGNO ROSSO\nIl ritratto può essere anche un nudo\, nella più totale normalità di ciò che significa essere sè stessi con indosso il proprio primo vestito: la pelle.\nLa società riempie di altro ciò che può essere anche solo essere sè stessi. E qui mi piace provocare.\nhttps://www.facebook.com/events/691713532842464/
URL:https://www.filomagazine.it/evento/mostra-fotografia-ferrara-uno-sguardo-non-solito/
LOCATION:HOTEL CARLTON E RESIDENCE – FERRARA
CATEGORIES:Mostre
ATTACH;FMTTYPE=image/jpeg:https://www.filomagazine.it/wp-content/uploads/2023/10/385698606_830900752373848_6698606359177026455_n.jpg
ORGANIZER;CN="Giacomo Brini | photography":MAILTO:noreply@facebookmail.com
END:VEVENT
END:VCALENDAR