BEGIN:VCALENDAR
VERSION:2.0
PRODID:-//FILO Magazine - ECPv6.15.18//NONSGML v1.0//EN
CALSCALE:GREGORIAN
METHOD:PUBLISH
X-ORIGINAL-URL:https://www.filomagazine.it
X-WR-CALDESC:Eventi per FILO Magazine
REFRESH-INTERVAL;VALUE=DURATION:PT1H
X-Robots-Tag:noindex
X-PUBLISHED-TTL:PT1H
BEGIN:VTIMEZONE
TZID:Europe/Rome
BEGIN:DAYLIGHT
TZOFFSETFROM:+0100
TZOFFSETTO:+0200
TZNAME:CEST
DTSTART:20230326T010000
END:DAYLIGHT
BEGIN:STANDARD
TZOFFSETFROM:+0200
TZOFFSETTO:+0100
TZNAME:CET
DTSTART:20231029T010000
END:STANDARD
BEGIN:DAYLIGHT
TZOFFSETFROM:+0100
TZOFFSETTO:+0200
TZNAME:CEST
DTSTART:20240331T010000
END:DAYLIGHT
BEGIN:STANDARD
TZOFFSETFROM:+0200
TZOFFSETTO:+0100
TZNAME:CET
DTSTART:20241027T010000
END:STANDARD
BEGIN:DAYLIGHT
TZOFFSETFROM:+0100
TZOFFSETTO:+0200
TZNAME:CEST
DTSTART:20250330T010000
END:DAYLIGHT
BEGIN:STANDARD
TZOFFSETFROM:+0200
TZOFFSETTO:+0100
TZNAME:CET
DTSTART:20251026T010000
END:STANDARD
END:VTIMEZONE
BEGIN:VEVENT
DTSTART;TZID=Europe/Rome:20240609T090000
DTEND;TZID=Europe/Rome:20240609T113000
DTSTAMP:20260421T125404
CREATED:20240415T143951Z
LAST-MODIFIED:20240415T144146Z
UID:10006500-1717923600-1717932600@www.filomagazine.it
SUMMARY:Su e giù per Comacchio - Canali\, valli\, saline e fenicotteri
DESCRIPTION:Vivere il Parco del Delta del Po su due ruote silenziose e sostenibili è una delle esperienze più belle da provare! Durante questo tour ci muoveremo nel territorio di Comacchio\, passando per le Valli e le Saline di Comacchio fino al mare\, alla scoperta di luoghi nuovi e sconosciuti ai più\, dalle antiche origini etrusche\, fino ai fiumi\, ai paesaggi mozzafiato e ai meravigliosi scorci del centro storico. Partenza con visita del Centro Storico di Comacchio\, giro ad anello ridotto delle Valli con vista sulle saline\, con passaggio su Lido Estensi e Porto Garibaldi e ritorno a Comacchio. \nCosto escursione con bici propria: 15€ intero – 10€ ridotto (12-14 anni) \nLuogo di ritrovo: Comacchio – Via dello Squero 3 – Area parcheggio Coop \nLunghezza percorso: 20 km \nDurata: 2\,5 ore circa con soste \nLe persone dovranno essere attrezzate con 1\,5 litri d’acqua\, scarpe sportive\, occhiali\, casco obbligatorio per i minori incluso nel prezzo\, giacca impermeabile. \nPossibilità di noleggio attrezzature e biciclette con consegna su punto desiderato.
URL:https://www.filomagazine.it/evento/su-e-giu-per-comacchio-canali-valli-saline-e-fenicotteri-2/2024-06-09/
LOCATION:Centro Storico Comacchio\, Comacchio\, Ferrara\, Italia
CATEGORIES:Aria aperta
ATTACH;FMTTYPE=image/jpeg:https://www.filomagazine.it/wp-content/uploads/2024/04/Su-e-Giu-Fenicotteri.jpg
ORGANIZER;CN="Comacchio Experience":MAILTO:info@comacchioexperience.com
GEO:44.6940053;12.1793532
END:VEVENT
BEGIN:VEVENT
DTSTART;TZID=Europe/Rome:20240423T160000
DTEND;TZID=Europe/Rome:20240423T183000
DTSTAMP:20260421T125404
CREATED:20240415T143951Z
LAST-MODIFIED:20240415T144146Z
UID:10006499-1713888000-1713897000@www.filomagazine.it
SUMMARY:Su e giù per Comacchio - Canali\, valli\, saline e fenicotteri
DESCRIPTION:Vivere il Parco del Delta del Po su due ruote silenziose e sostenibili è una delle esperienze più belle da provare! Durante questo tour ci muoveremo nel territorio di Comacchio\, passando per le Valli e le Saline di Comacchio fino al mare\, alla scoperta di luoghi nuovi e sconosciuti ai più\, dalle antiche origini etrusche\, fino ai fiumi\, ai paesaggi mozzafiato e ai meravigliosi scorci del centro storico. Partenza con visita del Centro Storico di Comacchio\, giro ad anello ridotto delle Valli con vista sulle saline\, con passaggio su Lido Estensi e Porto Garibaldi e ritorno a Comacchio. \nCosto escursione con bici propria: 15€ intero – 10€ ridotto (12-14 anni) \nLuogo di ritrovo: Comacchio – Via dello Squero 3 – Area parcheggio Coop \nLunghezza percorso: 20 km \nDurata: 2\,5 ore circa con soste \nLe persone dovranno essere attrezzate con 1\,5 litri d’acqua\, scarpe sportive\, occhiali\, casco obbligatorio per i minori incluso nel prezzo\, giacca impermeabile. \nPossibilità di noleggio attrezzature e biciclette con consegna su punto desiderato.
URL:https://www.filomagazine.it/evento/su-e-giu-per-comacchio-canali-valli-saline-e-fenicotteri-2/2024-04-23/
LOCATION:Centro Storico Comacchio\, Comacchio\, Ferrara\, Italia
CATEGORIES:Aria aperta
ATTACH;FMTTYPE=image/jpeg:https://www.filomagazine.it/wp-content/uploads/2024/04/Su-e-Giu-Fenicotteri.jpg
ORGANIZER;CN="Comacchio Experience":MAILTO:info@comacchioexperience.com
GEO:44.6940053;12.1793532
END:VEVENT
BEGIN:VEVENT
DTSTART;TZID=Europe/Rome:20240407T100000
DTEND;TZID=Europe/Rome:20240407T123000
DTSTAMP:20260421T125404
CREATED:20240415T143519Z
LAST-MODIFIED:20240415T143519Z
UID:10006498-1712484000-1712493000@www.filomagazine.it
SUMMARY:Su e giù per Comacchio - Canali\, valli\, saline e fenicotteri
DESCRIPTION:Vivere il Parco del Delta del Po su due ruote silenziose e sostenibili è una delle esperienze più belle da provare! Durante questo tour ci muoveremo nel territorio di Comacchio\, passando per le Valli e le Saline di Comacchio fino al mare\, alla scoperta di luoghi nuovi e sconosciuti ai più\, dalle antiche origini etrusche\, fino ai fiumi\, ai paesaggi mozzafiato e ai meravigliosi scorci del centro storico. Partenza con visita del Centro Storico di Comacchio\, giro ad anello ridotto delle Valli con vista sulle saline\, con passaggio su Lido Estensi e Porto Garibaldi e ritorno a Comacchio. \nCosto escursione con bici propria: 15€ intero – 10€ ridotto (12-14 anni) \nLuogo di ritrovo: Comacchio – Via dello Squero 3 – Area parcheggio Coop \nLunghezza percorso: 20 km \nDurata: 2\,5 ore circa con soste \nLe persone dovranno essere attrezzate con 1\,5 litri d’acqua\, scarpe sportive\, occhiali\, casco obbligatorio per i minori incluso nel prezzo\, giacca impermeabile. \nPossibilità di noleggio attrezzature e biciclette con consegna su punto desiderato. \n  \n 
URL:https://www.filomagazine.it/evento/su-e-giu-per-comacchio-canali-valli-saline-e-fenicotteri/
LOCATION:Centro Storico Comacchio\, Comacchio\, Ferrara\, Italia
CATEGORIES:Aria aperta
ATTACH;FMTTYPE=image/jpeg:https://www.filomagazine.it/wp-content/uploads/2024/04/Su-e-Giu-Fenicotteri.jpg
ORGANIZER;CN="Comacchio Experience":MAILTO:info@comacchioexperience.com
GEO:44.6940053;12.1793532
END:VEVENT
END:VCALENDAR