BEGIN:VCALENDAR
VERSION:2.0
PRODID:-//FILO Magazine - ECPv6.15.18//NONSGML v1.0//EN
CALSCALE:GREGORIAN
METHOD:PUBLISH
X-ORIGINAL-URL:https://www.filomagazine.it
X-WR-CALDESC:Eventi per FILO Magazine
REFRESH-INTERVAL;VALUE=DURATION:PT1H
X-Robots-Tag:noindex
X-PUBLISHED-TTL:PT1H
BEGIN:VTIMEZONE
TZID:Europe/Rome
BEGIN:DAYLIGHT
TZOFFSETFROM:+0100
TZOFFSETTO:+0200
TZNAME:CEST
DTSTART:20230326T010000
END:DAYLIGHT
BEGIN:STANDARD
TZOFFSETFROM:+0200
TZOFFSETTO:+0100
TZNAME:CET
DTSTART:20231029T010000
END:STANDARD
BEGIN:DAYLIGHT
TZOFFSETFROM:+0100
TZOFFSETTO:+0200
TZNAME:CEST
DTSTART:20240331T010000
END:DAYLIGHT
BEGIN:STANDARD
TZOFFSETFROM:+0200
TZOFFSETTO:+0100
TZNAME:CET
DTSTART:20241027T010000
END:STANDARD
BEGIN:DAYLIGHT
TZOFFSETFROM:+0100
TZOFFSETTO:+0200
TZNAME:CEST
DTSTART:20250330T010000
END:DAYLIGHT
BEGIN:STANDARD
TZOFFSETFROM:+0200
TZOFFSETTO:+0100
TZNAME:CET
DTSTART:20251026T010000
END:STANDARD
BEGIN:DAYLIGHT
TZOFFSETFROM:+0100
TZOFFSETTO:+0200
TZNAME:CEST
DTSTART:20260329T010000
END:DAYLIGHT
BEGIN:STANDARD
TZOFFSETFROM:+0200
TZOFFSETTO:+0100
TZNAME:CET
DTSTART:20261025T010000
END:STANDARD
END:VTIMEZONE
BEGIN:VEVENT
DTSTART;TZID=Europe/Rome:20250912T193000
DTEND;TZID=Europe/Rome:20250914T233000
DTSTAMP:20260419T150920
CREATED:20250907T143848Z
LAST-MODIFIED:20250907T143848Z
UID:10008383-1757705400-1757892600@www.filomagazine.it
SUMMARY:Sapori Senesi all'Ombra del Campanile 2025
DESCRIPTION:Una gustosa tre giorni dedicata ai sapori delle terre senesi \n\nSotto al Campanile di San Giorgio nei giardini della Contrada con ingresso da via Ferrariola\, dal variegato menù intitolato alla tradizione toscana si potranno gustare -solo a cena- le tipicità culinarie senesi. Tutte le materie prime consegnate con una spedizione dedicata\, sono rigorosamente di provenienza agroalimentare artigianale\, fresche\, non congelate\, tipiche e originali del territorio toscano e saranno cotte al momento.\n\nIn cucina gli amici cuochi toscani della ‘Compagnia della Ghianda‘\, gemellata con la contrada ferrarese.\n\n\nAntipasti: Tagliare Senese: affettati misti\, salsiccia secca di maiale\, formaggio rosso di Pienza con miele\, crostini neri. Panzanella.\nPrimi: Pici al Cinghiale\, Pici al Ragù di Cinta Senese\, Ribollita\nSecondi: Cinghiale al tegame\, Trippa di babbo Mario\, Fritto di San Sebastiano\, Costline di agnello\, bocconcini di pollo\, carciofi a sorpresa\nContorni: Carciofi fritti\, fagioli all’uccelletto\, Patate al rosmarino\n\n\n\nInfo e prenotazioni: 342 1897127\n\nA cura  Compagnia della Ghianda e Contrada di San Giorgio.\n 
URL:https://www.filomagazine.it/evento/sapori-senesi-allombra-del-campanile-2025/
LOCATION:Basilica di San Giorgio fuori le mura
CATEGORIES:Food
ATTACH;FMTTYPE=image/jpeg:https://www.filomagazine.it/wp-content/uploads/2025/09/544553281_1358194852980326_1070211874260878660_n.jpg
END:VEVENT
BEGIN:VEVENT
DTSTART;TZID=Europe/Rome:20250421T080000
DTEND;TZID=Europe/Rome:20250529T170000
DTSTAMP:20260419T150920
CREATED:20250417T075334Z
LAST-MODIFIED:20250417T075334Z
UID:10007775-1745222400-1748538000@www.filomagazine.it
SUMMARY:Festa di San Giorgio e di San Maurelio 2025
DESCRIPTION:Iniziative in onore dei Santi Patroni della città di Ferrara. \nLa Chiesa di San Giorgio\, appena fuori dalle mura cittadine\, ha le origini più antiche di tutta la città. Già nel VII sec. d.C. svolgeva la funzione di cattedrale\, che sarebbe poi passata nel XII sec.alla basilica eretta sul lato opposto del fiume\, in quello che era diventato il nuovo fulcro della vita cittadina nel Medioevo.\nIn occasione della Festa del Patrono di Ferrara 2025 vengono organizzate diverse iniziative. \nPROGRAMMA \nLunedì 21 aprile\nOre 11.15: Messa a seguire Pasquetta Shalom\nOre 19.00: Concerto d’organo del M° Luigi Locatelli \nMartedì 22 aprile\nOre 16.00: Visita guidata del complesso monumentale di San Giorgio (iscrizione: santuariosangiorgio@gmail.com)\nOre 21.00: Concerto per Soprano e Organo\nEsecutori: Marina De Liso -Soprano\, Wladimir Matesic – Organo \nMercoledì 23 aprile – FESTA DI SAN GIORGIO\nOre 10.00: Inaugurazione delle mostre “Dall’Istituto Statale d’Arte di Porta Romana di Firenze: Carlo Ciucchi Picchio\, Barbara Fabbri\, Jacopo Nocentini”\, nel chiostro\, ed installazione sul portone della basilica dell’artista Giovanni De Gara “La porta dorata”. Fino al 04/05\nOre 11.15: S. Messa solenne presieduta dall’Arcivescovo mons. Gian Carlo Perego\nOre 16.00: Visita guidata del complesso monumentale di San Giorgio (iscrizione: santuariosangiorgio@gmail.com) \nDa mercoledì 23 a domenica 27 aprile\nStand gastronomico (cortile della Contrada di S. Giorgio) \nDa mercoledì 23 aprile a domenica 11 maggio\nPesca di beneficenza \nGiovedì 24 aprile\nOre 19.00: Messa con Rinnovo delle promesse Shalom \nMercoledì 30 aprile\nOre 21.00: Conferenza su Cosmè Tura a cura di Romeo Pio Cristofori \nMartedì 6 maggio\nOre 21.00: “L’abito”\, Rappresentazione Teatrale a cura del gruppo teatro della Contrada\, nel chiostro. \nMercoledì 7 maggio – FESTA DI SAN MAURELIO\nOre 18.30: S. Messa solenne presieduta dall’Arcivescovo mons. Gian Carlo Perego\, con il Vicariato di San Maurelio. Segue rinfresco\nOre 21.00: Concerto d’organo del M° Luigi Locatelli \nSabato 10 maggio\nOre 21.00: Concerto\, Coro e Orchestra “Immacolata”\,basili direttore Giorgio Zappaterra \nGiovedì 29 maggio\nOre 21.00: Concerto per Soli\, Organo\, Coro e Orchestra\, ensemble barocco del Conservatorio “G. Frescobaldi” di Ferrara\, direttore Manolo Da Rold
URL:https://www.filomagazine.it/evento/festa-di-san-giorgio-e-di-san-maurelio-2025/
LOCATION:Basilica di San Giorgio fuori le mura
CATEGORIES:Festival & Eventi,Varie
ATTACH;FMTTYPE=image/jpeg:https://www.filomagazine.it/wp-content/uploads/2025/04/Programa-generale.jpg
END:VEVENT
BEGIN:VEVENT
DTSTART;TZID=Europe/Rome:20241208T210000
DTEND;TZID=Europe/Rome:20241208T210000
DTSTAMP:20260419T150920
CREATED:20241128T121404Z
LAST-MODIFIED:20241204T104906Z
UID:10007135-1733691600-1733691600@www.filomagazine.it
SUMMARY:Concerto MAGNIFICAT e CANTATA 63
DESCRIPTION:Domenica 8 dicembre alle ore 21.00 si terrà presso la Basilica di San Giorgio fuori le mura\nil concerto MAGNIFICAT e CANTATA 63 di J.S. Bach (1685 – 1750).\nil Coro Polifonico Santo Spirito diretto da Francesco Pinamonti\, in collaborazione con l’Orchestra\nAccademia dello Spirito Santo\, ritorna a San Giorgio fuori le Mura dopo tre anni esatti e lo fa con due\ncapolavori assoluti della musica sacra: Il Magnificat in mi bemolle maggiore del 1723\, composto\, in\noccasione dei Vespri di Natale a Lipsia dello stesso anno nella chiesa di San Tommaso (Thomaskirche); una cantata sacra caratterizzata da una particolare varietà stilistica e dalla presenza di quattro testi\, quattro interpolazioni\, legati per l’appunto alle festività natalizie. Il Magnificat infatti\, uno dei cantici più antichi della chiesa di Roma\, era stato fatto proprio anche dalla Riforma luterana con riferimento alle tre più importanti festività del calendario: Natale\, Pasqua\, Pentecoste. La varietà e insieme l’essenzialità della scrittura fanno dell’opera uno dei gioielli più luminosi dell’intera produzione bachiana.\n\nCoro Polifonico di Santo Spirito\, direttore Francesco Pinamonti\nOrchestra Accademia dello Spirito Santo\nMaestro direttore e concertatore Dario Tabbia\nSoprano Silvia Frigato; contralto Rossella Giacchero\ntenore Stefano Gambarino; basso Marco Saccardin\n\nIngresso libero.\nBasilica di San Giorgio fuori le mura – Piazza San Giorgio 29 – Ferrara.
URL:https://www.filomagazine.it/evento/concerto-magnificat-e-cantata-63/
LOCATION:Basilica di San Giorgio fuori le mura
CATEGORIES:Musica
ATTACH;FMTTYPE=image/jpeg:https://www.filomagazine.it/wp-content/uploads/2024/11/MAGNIFICAT-SAN-GIORGIO.jpg
END:VEVENT
BEGIN:VEVENT
DTSTART;TZID=Europe/Rome:20240906T193000
DTEND;TZID=Europe/Rome:20240908T193000
DTSTAMP:20260419T150920
CREATED:20240903T092751Z
LAST-MODIFIED:20240903T092751Z
UID:10006787-1725651000-1725823800@www.filomagazine.it
SUMMARY:Sapori Senesi all'Ombra del Campanile 2024
DESCRIPTION:Un gustoso evento\, della durata di tre giorni\, 6\, 7\, 8 settembre 2024 che avrà luogo Sotto al Campanile di San Giorgio nei giardini della Contrada con ingresso da via Ferrariola – Ferrara\, sarà dedicato ai sapori delle terre Senesi.\nProgramma\nDal variegato menù intitolato alla tradizione toscana si potranno gustare -solo a cena- le tipicità culinarie sensi: pappa al pomodoro\, ribollita\, pappardelle e cinghiale alla senese\, ecc… e ancora\, ricciarelli e panforte con vin Santo.\nTutte le materie prime consegnate con una spedizione dedicata\, sono rigorosamente di provenienza agroalimentare artigianale\, fresche\, non congelate\, tipiche e originali del territorio toscano e saranno cotte al momento.\nIn cucina gli amici cuochi toscani della ‘Compagnia della Ghianda’\, gemellata con la contrada ferrarese. \nOrari: Dalle 19:30 alle 00:00\ningresso: libero\nPer maggiori Info e prenotazioni: 342 1897127\nA cura Compagnia della Ghianda e Contrada di San Giorgio \n 
URL:https://www.filomagazine.it/evento/sapori-senesi-allombra-del-campanile-2024/
LOCATION:Basilica di San Giorgio fuori le mura
CATEGORIES:Food
ATTACH;FMTTYPE=image/jpeg:https://www.filomagazine.it/wp-content/uploads/2024/09/leadImage_carousel.jpg
END:VEVENT
BEGIN:VEVENT
DTSTART;VALUE=DATE:20240420
DTEND;VALUE=DATE:20240430
DTSTAMP:20260419T150920
CREATED:20240410T101849Z
LAST-MODIFIED:20240417T083613Z
UID:10006493-1713589200-1714366799@www.filomagazine.it
SUMMARY:Festa di San Giorgio 2024
DESCRIPTION:Iniziative in onore del Santo Patrono della città di Ferrara\, con mercato lungo il Viale Alfonso I d’Este\, “Taverne all’ombra del campanile”\, torneo dell’Idra\, gastronomia e animazione. \nLa Chiesa di San Giorgio\, appena fuori dalle mura cittadine\, ha le origini più antiche di tutta la città. Già nel VII sec. d.C. svolgeva la funzione di cattedrale\, che sarebbe poi passata nel XII sec.alla basilica eretta sul lato opposto del fiume\, in quello che era diventato il nuovo fulcro della vita cittadina nel Medioevo.\nIn occasione della Festa del Patrono di Ferrara 2024 vengono organizzate diverse iniziative. \nPROGRAMMA\nTriduo di San Giorgio \nSabato 20 aprile\n– ore 17.00\, Adorazione Eucaristica e recita del S. Rosario\n– ore 18.00\, S. Messa del Triduo \nDomenica 21 aprile\n– ore 17.00\, Adorazione Eucaristica e recita del S. Rosario\n– ore 18.00\, S. Messa del Triduo\n– ore 21.00\, Rassegna di Cori (in Basilica) \nLunedì 22 aprile\n– ore 16.00\,  Visita guidata al Complesso Monumentale di San Giorgio con esposizione del Testamento del pittore ferrarese Cosmè Tura\n– ore 17.00\, Adorazione Eucaristica e recita del S. Rosario\n– ore 18.00\, S. Messa del Triduo\n– ore 20.30\, Cosmè\, pittore eccellentissimo nella basilica di San Giorgio. Conferenza di Lucia Menegatti. \nMartedì 23 aprile\n– ore 10.30\, Inaugurazione della mostra fotografica “Procida e i suoi Misteri” reportage fotografico di Maria Grazia Dainelli e Carlo Midollini.\n– ore 11.15\, S. Messa solenne presieduta sa S.E. mons. Gian Carlo Perego\n– ore 12.15\, Svelamento della targa che intitola lo spazio erboso di Piazza San Giorgio a Padre Giacomo Maria Ferrari (ex parroco olivetano)\n– ore 16.00\, Visita guidata al Complesso Monumentale di San Giorgio con esposizione del Testamento del pittore ferrarese Cosmè Tura\n– ore 18.00\, S. Messa. \nMercoledì 24 aprile\n– ore 21.00\, Spettacolo Teatrale della Contrada di San Giorgio (nel chiostro) \nGiovedì 25 aprile\n– ore 9.00-18.00\, Torneo dell’Idra (sbandieratori e musici under e assoluti) \nSabato 27 aprile\n– ore 14.00-18.00\, Torneo over città di Ferrara (sbandieratori e musici over 40)\n– ore 21.00\, Festa giovani Italo-Brasiliana \nDomenica 28 aprile\n– ore 19.00\, Concerto d’organo del M° Luigi Locatelli \nDal 20 al 28 aprile\, ore 19.30-23.00\nStand gastronomico nel giardino della Contrada di San Giorgio \nPer aderire alla visita guidata\, la prenotazione obbligatoria via mail santuariosangiorgio@gmail.com oppure al 329 2221972.
URL:https://www.filomagazine.it/evento/festa-di-san-giorgio-2024/
LOCATION:Basilica di San Giorgio fuori le mura
CATEGORIES:Festival & Eventi
ATTACH;FMTTYPE=image/jpeg:https://www.filomagazine.it/wp-content/uploads/2024/04/loc-festa-san-giorgio-2024.jpg
END:VEVENT
END:VCALENDAR