BEGIN:VCALENDAR
VERSION:2.0
PRODID:-//FILO Magazine - ECPv6.15.18//NONSGML v1.0//EN
CALSCALE:GREGORIAN
METHOD:PUBLISH
X-WR-CALNAME:FILO Magazine
X-ORIGINAL-URL:https://www.filomagazine.it
X-WR-CALDESC:Eventi per FILO Magazine
REFRESH-INTERVAL;VALUE=DURATION:PT1H
X-Robots-Tag:noindex
X-PUBLISHED-TTL:PT1H
BEGIN:VTIMEZONE
TZID:Europe/Rome
BEGIN:DAYLIGHT
TZOFFSETFROM:+0100
TZOFFSETTO:+0200
TZNAME:CEST
DTSTART:20250330T010000
END:DAYLIGHT
BEGIN:STANDARD
TZOFFSETFROM:+0200
TZOFFSETTO:+0100
TZNAME:CET
DTSTART:20251026T010000
END:STANDARD
BEGIN:DAYLIGHT
TZOFFSETFROM:+0100
TZOFFSETTO:+0200
TZNAME:CEST
DTSTART:20260329T010000
END:DAYLIGHT
BEGIN:STANDARD
TZOFFSETFROM:+0200
TZOFFSETTO:+0100
TZNAME:CET
DTSTART:20261025T010000
END:STANDARD
BEGIN:DAYLIGHT
TZOFFSETFROM:+0100
TZOFFSETTO:+0200
TZNAME:CEST
DTSTART:20270328T010000
END:DAYLIGHT
BEGIN:STANDARD
TZOFFSETFROM:+0200
TZOFFSETTO:+0100
TZNAME:CET
DTSTART:20271031T010000
END:STANDARD
END:VTIMEZONE
BEGIN:VEVENT
DTSTART;TZID=Europe/Rome:20260419T150000
DTEND;TZID=Europe/Rome:20260419T170000
DTSTAMP:20260419T161809
CREATED:20260416T113721Z
LAST-MODIFIED:20260416T114649Z
UID:10009854-1776610800-1776618000@www.filomagazine.it
SUMMARY:Visite guidate alla "Casa del Pittore Carlo Tassi"
DESCRIPTION:Sabato 18 e domenica 19 aprile alle 10 e alle 15\, sarà possibile visitare la “Casa del Pittore Carlo Tassi”. \nCompresa nel circuito delle “Case e studi delle persone illustri dell’Emilia-Romagna”\, la “Casa del\nPittore Carlo Tassi” è un grande valore oggi\, per la capacità di essere testimonianza\, di dire\, di\nparlare dell’uomo\, dell’artista\, delle collezioni plurime e articolate\, dunque dei suoi interessi e delle\nsue curiosità\, del suo “vedere oltre”. Attraversando le varie stanze si scoprono i presupposti di un\n“reciproco dialogo” tra i vari elementi che ne fanno parte\, e di un ancor più significativo dialogo\ncon il visitatore grazie alle atmosfere create\, dall’aria che vi si respira. Un percorso esplorativo\nentro spazi e meandri di “memoria”\, entro trame artistiche e culturali\, che si intersecano e si\nannodano con le tracce umane e private dell’antico abitante. In questo piccolo grande mondo di\nopere d’arte e collezioni\, ogni oggetto rappresenta un tassello prezioso di un mosaico ricco di\nemozioni e avventure. Tutto raccolto con cura “antropologica” e con una passione per l’eclettismo\nche si palesa tramite la varietà degli oggetti\, portatori ciascuno di significati e di “verità”: ideali di\nlibertà\, di bellezza e precarietà della natura\, del fluire del tempo e dunque della transitorietà della\nvita\, di sguardi che afferrano e fermano attimi irripetibili\, esperienza estetica\, ricordi dell’infanzia.\nNegli ambienti di Casa Tassi\, così come l’artista l’ha voluta e organizzata\, il passato è infatti indice\ne sintomo di una vicenda personale\, ben consolidata nel presente e densa di significati per il futuro.\nLa Casa Museo del pittore e scultore Carlo Tassi è l’unica struttura a Ferrara e provincia a\nprendere parte a queste due importanti giornate che godono del patrocinio e della collaborazione dei\nComitati ICOM Italia\, ICOM Internazionale\, ICOM-DEMHIST\, ICOM-ICLCM\, e del Ministero\ndella cultura MIC\, con media partner RAI Italia TGR. \nLe visite guidate alla “Casa del Pittore-Archivio Carlo Tassi” (via Virgiliana\, 187 a Bondeno)\nsi effettueranno previa prenotazione\, sabato 18 e domenica 19 aprile alle 10 e alle 15\nContatti: info@carlotassi.it\, tel. 346 5969483. \nPer maggiori info: https://www.carlotassi.it/ e\nhttps://www.casedellamemoria.it/
URL:https://www.filomagazine.it/evento/visite-guidate-alla-casa-del-pittore-carlo-tassi/2026-04-19/2/
LOCATION:Casa del Pittore Carlo Tassi\, Via Virgiliana 187\, Bondeno\, Italia
CATEGORIES:Mostre
ATTACH;FMTTYPE=image/png:https://www.filomagazine.it/wp-content/uploads/2026/04/Locandina-evento-1.png
END:VEVENT
END:VCALENDAR